BEGIN:VCALENDAR
VERSION:2.0
PRODID:-//Highams Park Portal - ECPv6.15.19//NONSGML v1.0//EN
CALSCALE:GREGORIAN
METHOD:PUBLISH
X-ORIGINAL-URL:https://highamspark.london
X-WR-CALDESC:Events for Highams Park Portal
REFRESH-INTERVAL;VALUE=DURATION:PT1H
X-Robots-Tag:noindex
X-PUBLISHED-TTL:PT1H
BEGIN:VTIMEZONE
TZID:Europe/London
BEGIN:DAYLIGHT
TZOFFSETFROM:+0000
TZOFFSETTO:+0100
TZNAME:BST
DTSTART:20250330T010000
END:DAYLIGHT
BEGIN:STANDARD
TZOFFSETFROM:+0100
TZOFFSETTO:+0000
TZNAME:GMT
DTSTART:20251026T010000
END:STANDARD
BEGIN:DAYLIGHT
TZOFFSETFROM:+0000
TZOFFSETTO:+0100
TZNAME:BST
DTSTART:20260329T010000
END:DAYLIGHT
BEGIN:STANDARD
TZOFFSETFROM:+0100
TZOFFSETTO:+0000
TZNAME:GMT
DTSTART:20261025T010000
END:STANDARD
BEGIN:DAYLIGHT
TZOFFSETFROM:+0000
TZOFFSETTO:+0100
TZNAME:BST
DTSTART:20270328T010000
END:DAYLIGHT
BEGIN:STANDARD
TZOFFSETFROM:+0100
TZOFFSETTO:+0000
TZNAME:GMT
DTSTART:20271031T010000
END:STANDARD
END:VTIMEZONE
BEGIN:VEVENT
DTSTART;TZID=Europe/London:20260329T100000
DTEND;TZID=Europe/London:20260329T140000
DTSTAMP:20260423T093153
CREATED:20260226T174024Z
LAST-MODIFIED:20260322T123758Z
UID:14714-1774778400-1774792800@highamspark.london
SUMMARY:Highams Park Farmers Market
DESCRIPTION:There’s a great selection of stalls coming to the  market on Sunday 29th March: \n• Bens Bakery – Artisan Bakery\n• Georges Market Drop – Fruit & Veg\n• Deli 4 Dogs – Natural Dog Treats\n• Elz O Sweety – Traditional Sweets stall\n• Honey Heaven – Honey and oils\n• Mapuldor – Sourdough\n• Tua Italy – Italian Deli\, olives/pasta\n• Little Juice Box – fresh juice\n• Delice – Vegan street food\n• Grants Kitchen – Jamaican street food\n• L & R – Bespoke candles\n• Bosphoros Bites – Gozleme stall\n• Hey Ma – Indian Sauces\n• Milk Made – Natural Soap\n• Grumpy Granny – Bread & bakes\n• French Comte – French cheese\n• Nicks Fresh Fish – self explanatory!\n• Taste of Ghana – Ghanaian baskets\n• Come Chaat – Indian Street food\n• Giggly Pig Co – Local sausages \nHighams Park Farmers Market is brought to you by Esbee Events\, in association with the Highams Park Planning Group. We are so excited to be bringing back a fabulous market to Highams Park Station car park on Sundays! Apart from Saturday May 9th Which is same day as the HP Flea. Ooooo double market day! Yes please 🙏🏻\nThink hot food\, street food\, fresh produce\, fish\, butchers and a sprinkle of fabulous crafts. Come with friends\, mooch\, browse\, eat and shop yourself happy 😊 🐟 ☕️ 🍞 🧁 🛍️ 🐶 💚\n\nEvent time: 10:00 am – 2:00 pm \nDates confirmed so far are:\nSunday 29th March\nSaturday 9th May (Food only 10-3pm)\nSunday 28th June\nSunday 27th September \nIf you’re interested in trading with us please fill out our enquiry form ⬇️ \nhttps://tinyurl.com/4tsxubs2 \nFollow us on instagram for local events:\n@esbeeevents\n@e4_pop_up
URL:https://highamspark.london/event/14714/
LOCATION:Highams Park Station Car Park\, E4 9LA
CATEGORIES:Markets
ATTACH;FMTTYPE=image/jpeg:https://highamspark.london/wp-content/uploads/2026/02/29th-March-1.jpg
END:VEVENT
END:VCALENDAR