BEGIN:VCALENDAR
VERSION:2.0
PRODID:-//Highams Park Portal - ECPv6.15.19//NONSGML v1.0//EN
CALSCALE:GREGORIAN
METHOD:PUBLISH
X-WR-CALNAME:Highams Park Portal
X-ORIGINAL-URL:https://highamspark.london
X-WR-CALDESC:Events for Highams Park Portal
REFRESH-INTERVAL;VALUE=DURATION:PT1H
X-Robots-Tag:noindex
X-PUBLISHED-TTL:PT1H
BEGIN:VTIMEZONE
TZID:Europe/London
BEGIN:DAYLIGHT
TZOFFSETFROM:+0000
TZOFFSETTO:+0100
TZNAME:BST
DTSTART:20250330T010000
END:DAYLIGHT
BEGIN:STANDARD
TZOFFSETFROM:+0100
TZOFFSETTO:+0000
TZNAME:GMT
DTSTART:20251026T010000
END:STANDARD
BEGIN:DAYLIGHT
TZOFFSETFROM:+0000
TZOFFSETTO:+0100
TZNAME:BST
DTSTART:20260329T010000
END:DAYLIGHT
BEGIN:STANDARD
TZOFFSETFROM:+0100
TZOFFSETTO:+0000
TZNAME:GMT
DTSTART:20261025T010000
END:STANDARD
BEGIN:DAYLIGHT
TZOFFSETFROM:+0000
TZOFFSETTO:+0100
TZNAME:BST
DTSTART:20270328T010000
END:DAYLIGHT
BEGIN:STANDARD
TZOFFSETFROM:+0100
TZOFFSETTO:+0000
TZNAME:GMT
DTSTART:20271031T010000
END:STANDARD
END:VTIMEZONE
BEGIN:VEVENT
DTSTART;TZID=Europe/London:20260321T100000
DTEND;TZID=Europe/London:20260321T150000
DTSTAMP:20260420T112433
CREATED:20260306T164606Z
LAST-MODIFIED:20260312T171419Z
UID:14730-1774087200-1774105200@highamspark.london
SUMMARY:Spring Equinox Gathering
DESCRIPTION:
URL:https://highamspark.london/event/spring-equinox-gathering/
LOCATION:Brookfield Meadow\, Between the River Ching and Highams Park School\, London\, E4 9QU\, United Kingdom
CATEGORIES:Drop in Event
ATTACH;FMTTYPE=image/png:https://highamspark.london/wp-content/uploads/2026/03/LNPC-Spring-flyer-Michael-Holland.png
ORGANIZER;CN="Growing Understandings":MAILTO:hello@growingunderstandings.co.uk
END:VEVENT
BEGIN:VEVENT
DTSTART;TZID=Europe/London:20260321T100000
DTEND;TZID=Europe/London:20260321T120000
DTSTAMP:20260420T112433
CREATED:20260306T183953Z
LAST-MODIFIED:20260306T184010Z
UID:14740-1774087200-1774094400@highamspark.london
SUMMARY:Spring Clean at Wadham Meadow
DESCRIPTION:Registration required\, sign up on this link: www.bit.ly/wadham-clean
URL:https://highamspark.london/event/spring-clean-at-wadham-meadow/
LOCATION:Wadham Meadow\, North of Wadham Avenue\, London\, E17 4HS\, United Kingdom
CATEGORIES:Litter Picking
ATTACH;FMTTYPE=image/jpeg:https://highamspark.london/wp-content/uploads/2026/03/Wildways-Spring-Clean-poster.jpg
END:VEVENT
END:VCALENDAR