BEGIN:VCALENDAR
VERSION:2.0
PRODID:-//Highams Park Portal - ECPv6.15.19//NONSGML v1.0//EN
CALSCALE:GREGORIAN
METHOD:PUBLISH
X-WR-CALNAME:Highams Park Portal
X-ORIGINAL-URL:https://highamspark.london
X-WR-CALDESC:Events for Highams Park Portal
REFRESH-INTERVAL;VALUE=DURATION:PT1H
X-Robots-Tag:noindex
X-PUBLISHED-TTL:PT1H
BEGIN:VTIMEZONE
TZID:Europe/London
BEGIN:DAYLIGHT
TZOFFSETFROM:+0000
TZOFFSETTO:+0100
TZNAME:BST
DTSTART:20250330T010000
END:DAYLIGHT
BEGIN:STANDARD
TZOFFSETFROM:+0100
TZOFFSETTO:+0000
TZNAME:GMT
DTSTART:20251026T010000
END:STANDARD
BEGIN:DAYLIGHT
TZOFFSETFROM:+0000
TZOFFSETTO:+0100
TZNAME:BST
DTSTART:20260329T010000
END:DAYLIGHT
BEGIN:STANDARD
TZOFFSETFROM:+0100
TZOFFSETTO:+0000
TZNAME:GMT
DTSTART:20261025T010000
END:STANDARD
BEGIN:DAYLIGHT
TZOFFSETFROM:+0000
TZOFFSETTO:+0100
TZNAME:BST
DTSTART:20270328T010000
END:DAYLIGHT
BEGIN:STANDARD
TZOFFSETFROM:+0100
TZOFFSETTO:+0000
TZNAME:GMT
DTSTART:20271031T010000
END:STANDARD
END:VTIMEZONE
BEGIN:VEVENT
DTSTART;TZID=Europe/London:20260515T193000
DTEND;TZID=Europe/London:20260515T213000
DTSTAMP:20260420T111804
CREATED:20260324T172037Z
LAST-MODIFIED:20260325T144228Z
UID:14901-1778873400-1778880600@highamspark.london
SUMMARY:Recital by the Paddington Trio
DESCRIPTION:  \n  \n  \n  \n  \n  \n  \n  \n  \n  \n  \n  \n  \n  \nTickets on door: £17 (members of WFMS £12)\nDoors Open: 7pm; concert starts at 7:30 pm \nPart of the 2026 Highams Park Arts Trail \n\nHighams Park Arts & Culture ( ARC )
URL:https://highamspark.london/event/recital-by-the-paddington-trio/
LOCATION:All Saints Church\, Church Avenue\, E4 9QZ
CATEGORIES:Concerts,Live Music
ATTACH;FMTTYPE=image/jpeg:https://highamspark.london/wp-content/uploads/2026/03/Paddington-2026-Front.jpg
END:VEVENT
BEGIN:VEVENT
DTSTART;TZID=Europe/London:20260516T110000
DTEND;TZID=Europe/London:20260516T150000
DTSTAMP:20260420T111804
CREATED:20260417T045026Z
LAST-MODIFIED:20260417T045028Z
UID:15062-1778929200-1778943600@highamspark.london
SUMMARY:Comunitree Art Event
DESCRIPTION:A day of art base activities at the roundabout in Beech Hall Crescent roundabout – drop in and for all ages. Nature based art and general chatting and meeting. \nHosted by Michael Holland of Growing Understandings. \nPart of the 2026 Highams Park Arts Trail \n\nHighams Park Arts & Culture ( ARC )
URL:https://highamspark.london/event/comunitree-art-event/
LOCATION:The Roundabout in Beech Hall Crescent\, Beech Hall Crescent\, London\, London\, United Kingdom
CATEGORIES:Exhibitions & Art Trails,Drop in Event
ATTACH;FMTTYPE=image/webp:https://highamspark.london/wp-content/uploads/2026/04/TLGHcoverinsoil.webp
ORGANIZER;CN="Growing Understandings":MAILTO:hello@growingunderstandings.co.uk
END:VEVENT
BEGIN:VEVENT
DTSTART;TZID=Europe/London:20260516T190000
DTEND;TZID=Europe/London:20260516T220000
DTSTAMP:20260420T111804
CREATED:20260323T174840Z
LAST-MODIFIED:20260323T183422Z
UID:14871-1778958000-1778968800@highamspark.london
SUMMARY:Night Hours: Yet So Much
DESCRIPTION:A unique one-time live performance of the debut album ‘Yet So Much’ by ‘Night Hours’ – A collection of original songs composed by local artist Nigel Mear. This special launch event will celebrate the album release with an intimate performance of the entire album featuring musicians from the recording sessions.\nDoors Open: 7:00pm\nPerformance Starts: 8:00pm\nThe performance will last approximately 2 hours including one interval.\nNote: There will be no bar on the evening – ‘Bring Your Own Drink’ event. \nPrice: £10.00 Ticket and CD bundle (CD collection at venue)\nUnreserved seating and standing\nBooking essential\nTo book tickets go to:\nhttps://ticketlab.co.uk/event/id/37110 \nPart of the 2026 Highams Park Arts Trail \n\nHighams Park Arts & Culture ( ARC )
URL:https://highamspark.london/event/night-hours-yet-so-much/
LOCATION:All Saints Church\, Church Avenue\, E4 9QZ
CATEGORIES:Concerts,Live Music
ATTACH;FMTTYPE=image/jpeg:https://highamspark.london/wp-content/uploads/2026/03/Night-hours-16th-May-.jpg
END:VEVENT
BEGIN:VEVENT
DTSTART;TZID=Europe/London:20260517T113000
DTEND;TZID=Europe/London:20260517T163000
DTSTAMP:20260420T111804
CREATED:20260106T172512Z
LAST-MODIFIED:20260319T091428Z
UID:14502-1779017400-1779035400@highamspark.london
SUMMARY:The Spring Festival in The Highams Park
DESCRIPTION:This year’s Spring Festival will be from 11.30 am until 4.30pm on Sunday 17th May and will be a free to attend family fun day in The Highams Park IG8 9RB (near to Highams Park Lake) . \nPlease try and walk to the event\, as car parking in the stretch of The Charter Road between Falmouth Avenue and Tamworth Avenue will be suspended on the day to prevent traffic congestion and vehicle access to Tamworth Avenue will be closed to non-residents. Please follow these instructions or you may be fined and towed away. \nAs well as a variety of food\, drink and craft/gift stalls there will be displays and entertainments with something for all ages including the following: \n\n\nShire Horse displays\nClassic Car Show\nFood stalls\nAlcoholic & non alcoholic refreshments\nCraft stalls and more\nLive music by local musicians\nFairground rides\nMaypole and folk dancing\nCoconut shy\nPelt a Pal\nFace Painting\nOther games and entertainments\n\n\n \nEntertainments schedule\n12:00 – 12:20 Main Stage: ACT2 Drama\n12:40 – 13:20 Main Stage: The People’s Show Choir\n13:20 – 13:40 Shire Horse Display\n13:20 – 13:40 Blackhorse Standard and Morris\n13:40 – 14:20 Main Stage: Jane and Richard\n14:20 – 14:50 Highams Park Maypolers\n14:50 – 15:30 Main Stage: Storm in Teacup\n15:30 – 15:50 Shire Horse Display\n15:50 – 16:30 Main Stage: The Workhouse \n \n \n\n\n\n\n\n\n\n\n\n\nADVERTISEMENT\n\n\n\n\n\n\n\n\n\n\n\n\n\n\n\n\nHome\nPrivacy\nContact\n\n\n\nSupport with ❤ by Geekheads
URL:https://highamspark.london/event/the-spring-festival-in-the-highams-park/
LOCATION:The Highams Park\, IG8 9RB
CATEGORIES:Fairs, Fetes & Festivals
ATTACH;FMTTYPE=image/png:https://highamspark.london/wp-content/uploads/2026/01/Spring-Festival-Poster-2026.png
END:VEVENT
BEGIN:VEVENT
DTSTART;TZID=Europe/London:20260627T103000
DTEND;TZID=Europe/London:20260627T130000
DTSTAMP:20260420T111804
CREATED:20260403T154916Z
LAST-MODIFIED:20260403T164233Z
UID:15026-1782556200-1782565200@highamspark.london
SUMMARY:A Talk on the Tottenham Outrage & Walthamstow Tram Chase
DESCRIPTION:Booking is essential as there are only a limited number of places available.\nBook tickets on this link: https://tinyurl.com/RoyalOak-Talk-TottenhamOutrage
URL:https://highamspark.london/event/a-talk-on-the-tottenham-outrage-walthamstow-tram-chase/
LOCATION:Royal Oak Pub\, 320 Hale End Rd\, London\, IG8 9LN
CATEGORIES:Talks
ATTACH;FMTTYPE=image/jpeg:https://highamspark.london/wp-content/uploads/2026/04/Tottenham-Outrage-Poster-Roger-Torode-27th-June-2026-scaled.jpg
END:VEVENT
BEGIN:VEVENT
DTSTART;TZID=Europe/London:20260906T113000
DTEND;TZID=Europe/London:20260906T163000
DTSTAMP:20260420T111804
CREATED:20260106T172938Z
LAST-MODIFIED:20260106T172938Z
UID:14506-1788694200-1788712200@highamspark.london
SUMMARY:The Picnic in The Park
DESCRIPTION:
URL:https://highamspark.london/event/the-picnic-in-the-park/
LOCATION:The Highams Park\, IG8 9RB
CATEGORIES:Fairs, Fetes & Festivals
ATTACH;FMTTYPE=image/png:https://highamspark.london/wp-content/uploads/2026/01/The-Picnic-in-the-Park.png
END:VEVENT
BEGIN:VEVENT
DTSTART;TZID=Europe/London:20261127T181500
DTEND;TZID=Europe/London:20261127T191500
DTSTAMP:20260420T111804
CREATED:20260106T173308Z
LAST-MODIFIED:20260106T173308Z
UID:14509-1795803300-1795806900@highamspark.london
SUMMARY:Christmas Tree Lighting
DESCRIPTION:
URL:https://highamspark.london/event/christmas-tree-lighting/
LOCATION:Hale End Library\, Castle Avenue\, London\, E4 9QD
CATEGORIES:Fairs, Fetes & Festivals,Christmas
ATTACH;FMTTYPE=image/png:https://highamspark.london/wp-content/uploads/2026/01/Christmas-Tree-Lighting.png
END:VEVENT
BEGIN:VEVENT
DTSTART;TZID=Europe/London:20261206T110000
DTEND;TZID=Europe/London:20261206T170000
DTSTAMP:20260420T111804
CREATED:20260106T173606Z
LAST-MODIFIED:20260120T213756Z
UID:14512-1796554800-1796576400@highamspark.london
SUMMARY:The Highams Park Christmas Fayre
DESCRIPTION:
URL:https://highamspark.london/event/the-highams-park-christmas-fayre/
LOCATION:Signal Walk & Highams Park Station Car Park
CATEGORIES:Fairs, Fetes & Festivals,Markets
ATTACH;FMTTYPE=image/png:https://highamspark.london/wp-content/uploads/2026/01/Christmas-Fayre.png
END:VEVENT
END:VCALENDAR