BEGIN:VCALENDAR
VERSION:2.0
PRODID:-//Highams Park Portal - ECPv6.15.19//NONSGML v1.0//EN
CALSCALE:GREGORIAN
METHOD:PUBLISH
X-ORIGINAL-URL:https://highamspark.london
X-WR-CALDESC:Events for Highams Park Portal
REFRESH-INTERVAL;VALUE=DURATION:PT1H
X-Robots-Tag:noindex
X-PUBLISHED-TTL:PT1H
BEGIN:VTIMEZONE
TZID:Europe/London
BEGIN:DAYLIGHT
TZOFFSETFROM:+0000
TZOFFSETTO:+0100
TZNAME:BST
DTSTART:20250330T010000
END:DAYLIGHT
BEGIN:STANDARD
TZOFFSETFROM:+0100
TZOFFSETTO:+0000
TZNAME:GMT
DTSTART:20251026T010000
END:STANDARD
BEGIN:DAYLIGHT
TZOFFSETFROM:+0000
TZOFFSETTO:+0100
TZNAME:BST
DTSTART:20260329T010000
END:DAYLIGHT
BEGIN:STANDARD
TZOFFSETFROM:+0100
TZOFFSETTO:+0000
TZNAME:GMT
DTSTART:20261025T010000
END:STANDARD
BEGIN:DAYLIGHT
TZOFFSETFROM:+0000
TZOFFSETTO:+0100
TZNAME:BST
DTSTART:20270328T010000
END:DAYLIGHT
BEGIN:STANDARD
TZOFFSETFROM:+0100
TZOFFSETTO:+0000
TZNAME:GMT
DTSTART:20271031T010000
END:STANDARD
END:VTIMEZONE
BEGIN:VEVENT
DTSTART;TZID=Europe/London:20260507T200000
DTEND;TZID=Europe/London:20260507T220000
DTSTAMP:20260421T094022
CREATED:20260323T191402Z
LAST-MODIFIED:20260323T191403Z
UID:14881-1778184000-1778191200@highamspark.london
SUMMARY:Acoustic Songs and Guitars
DESCRIPTION:Short performances by musicians from the local open mic circuit.\nA free drop in event! No need to book just turn up \n  \nPart of the 2026 Highams Park Arts Trail \n\nHighams Park Arts & Culture ( ARC )
URL:https://highamspark.london/event/acoustic-songs-and-guitars/
LOCATION:Vino Tap
CATEGORIES:Live Music,Drop in Event
ATTACH;FMTTYPE=image/jpeg:https://highamspark.london/wp-content/uploads/2021/05/Vino-Tap-portal-main.jpg
END:VEVENT
END:VCALENDAR