BEGIN:VCALENDAR
VERSION:2.0
PRODID:-//Highams Park Portal - ECPv6.15.19//NONSGML v1.0//EN
CALSCALE:GREGORIAN
METHOD:PUBLISH
X-WR-CALNAME:Highams Park Portal
X-ORIGINAL-URL:https://highamspark.london
X-WR-CALDESC:Events for Highams Park Portal
REFRESH-INTERVAL;VALUE=DURATION:PT1H
X-Robots-Tag:noindex
X-PUBLISHED-TTL:PT1H
BEGIN:VTIMEZONE
TZID:Europe/London
BEGIN:DAYLIGHT
TZOFFSETFROM:+0000
TZOFFSETTO:+0100
TZNAME:BST
DTSTART:20250330T010000
END:DAYLIGHT
BEGIN:STANDARD
TZOFFSETFROM:+0100
TZOFFSETTO:+0000
TZNAME:GMT
DTSTART:20251026T010000
END:STANDARD
BEGIN:DAYLIGHT
TZOFFSETFROM:+0000
TZOFFSETTO:+0100
TZNAME:BST
DTSTART:20260329T010000
END:DAYLIGHT
BEGIN:STANDARD
TZOFFSETFROM:+0100
TZOFFSETTO:+0000
TZNAME:GMT
DTSTART:20261025T010000
END:STANDARD
BEGIN:DAYLIGHT
TZOFFSETFROM:+0000
TZOFFSETTO:+0100
TZNAME:BST
DTSTART:20270328T010000
END:DAYLIGHT
BEGIN:STANDARD
TZOFFSETFROM:+0100
TZOFFSETTO:+0000
TZNAME:GMT
DTSTART:20271031T010000
END:STANDARD
END:VTIMEZONE
BEGIN:VEVENT
DTSTART;TZID=Europe/London:20260509T110000
DTEND;TZID=Europe/London:20260509T150000
DTSTAMP:20260423T092737
CREATED:20260323T164551Z
LAST-MODIFIED:20260323T170849Z
UID:14860-1778324400-1778338800@highamspark.london
SUMMARY:Repair Cafe at Love Hale End Library Day
DESCRIPTION:The ‘Repaor Cafe’ with Claire and Jade is  oneof the stalls at the Spring Flea Market in Hale End Library Car Park. \n30 minute drop in slots can be booked on the day\, any questions\nprior to the event email: lilaroseclothes@outlook.com \n  \nPart of the 2026 Highams Park Arts Trail \n\nHighams Park Arts & Culture ( ARC )
URL:https://highamspark.london/event/repair-cafe-at-love-hale-end-library-day/
LOCATION:Hale End Library\, Castle Avenue\, London\, E4 9QD
CATEGORIES:Drop in Event
ATTACH;FMTTYPE=image/jpeg:https://highamspark.london/wp-content/uploads/2026/03/Highams-Park-Repair-Cafe-Clothing-Repair-Amended.jpg
END:VEVENT
BEGIN:VEVENT
DTSTART;TZID=Europe/London:20260509T193000
DTEND;TZID=Europe/London:20260509T203000
DTSTAMP:20260423T092737
CREATED:20260324T173250Z
LAST-MODIFIED:20260402T155511Z
UID:14908-1778355000-1778358600@highamspark.london
SUMMARY:Highams Park from 1918 to 1939
DESCRIPTION:Come and listen to a historical talk about Highams Park given by Sandeep Christian\, Chairman of The Highams Park Society.\n\nThis talk covers the period after the First World War. It was a period of rapid development in Highams Park and the talk helps us understand the Highams Park of today by looking at how its unique community was forged between 1918 and 1939.\n\nDoors open: 7 pm\nTalk: 7.30pm to 8.30pm\nTickets: £5 entrance\nFree tea\, coffee and refreshments afterwards. Red and white wine available for a small charge.\n\n\nVenue: Highams Park Baptist Church\,129 Cavendish Road\, London E4 9NH \n\n\nTickets available on Eventbrite on this link: https://tinyurl.com/Tickets-HPTalk1918-1939\nor by emailing: sd.christian19@gmail.com\n\n\n\nPart of the 2026 Highams Park Arts Trail \n\nHighams Park Arts & Culture ( ARC )
URL:https://highamspark.london/event/highams-park-from-1918-to-1939/
LOCATION:Highams Park Baptist Church\, Cavendish Road \, E4 9NG\, Cavendish Road\, E4 9NG\, United Kingdom
CATEGORIES:Talks,Exhibitions & Art Trails
ATTACH;FMTTYPE=image/webp:https://highamspark.london/wp-content/uploads/2026/03/image.webp
END:VEVENT
BEGIN:VEVENT
DTSTART;TZID=Europe/London:20260509T200000
DTEND;TZID=Europe/London:20260509T220000
DTSTAMP:20260423T092737
CREATED:20260324T161637Z
LAST-MODIFIED:20260324T161840Z
UID:14890-1778356800-1778364000@highamspark.london
SUMMARY:Jazz Concert by the Tim Garland Trio
DESCRIPTION:Highams Park Jazz Club is pleased to host the Tim Garland Trio for the first time. With Tim Garland on Mezzo Soprano Sax\, John Turville on piano and Niklas Lukassen on bass. \nVenue: All Saints Church\, Highams Park \nTime: 8pm (doors open 7pm) \nTickets; £20 in advance (plus £2 booking fee) £25 on the door.\nAll ages (under 18s must be accompanied by an adult) \nTo book tickets go to: https://wegottickets.com/event/693071 \nPart of the 2026 Highams Park Arts Trail \n\nHighams Park Arts & Culture ( ARC )
URL:https://highamspark.london/event/jazz-concert-by-the-tim-garland-trio/
LOCATION:All Saints Church\, Church Avenue\, E4 9QZ
CATEGORIES:Live Music,Concerts
ATTACH;FMTTYPE=image/jpeg:https://highamspark.london/wp-content/uploads/2026/03/698e01ebbab00_event.jpeg
END:VEVENT
BEGIN:VEVENT
DTSTART;TZID=Europe/London:20260513T100000
DTEND;TZID=Europe/London:20260513T120000
DTSTAMP:20260423T092737
CREATED:20260325T163045Z
LAST-MODIFIED:20260325T163045Z
UID:14931-1778666400-1778673600@highamspark.london
SUMMARY:Adult Art Classes
DESCRIPTION:A 2 hour Art Class for adults with Rachel Hogg exploring painting with acrylics and watercolours and drawing with charcoal. \nTime: 10am to 12 noon \nPrice: £20 per session \nTo book go to: www.bookwhen.com/rachelhoggcreativearts \nPart of the 2026 Highams Park Arts Trail \n\nHighams Park Arts & Culture ( ARC )
URL:https://highamspark.london/event/adult-art-classes-13-may/
LOCATION:The Station Rooms\, Highams Park Station\, London\, E4 9LA\, United Kingdom
CATEGORIES:Classes for Adults,Exhibitions & Art Trails
ATTACH;FMTTYPE=image/png:https://highamspark.london/wp-content/uploads/2026/03/Rachel-Classes-banner-3.png
END:VEVENT
BEGIN:VEVENT
DTSTART;TZID=Europe/London:20260513T193000
DTEND;TZID=Europe/London:20260513T220000
DTSTAMP:20260423T092737
CREATED:20260324T163238Z
LAST-MODIFIED:20260324T163253Z
UID:14896-1778700600-1778709600@highamspark.london
SUMMARY:Highams Park Arts Club
DESCRIPTION:‘This is what I made 10 years ago and this is what I’ve learned since’ \nA series of honest talks by creatives across the spectrum exploring the journey of making and creative process over time. Including a talk by Barnaby Barford about the Elephant & Tortoise sculpture in Signal Walk by Tesco.\nVenue: Vino Tap\nTime: 8pm (doors open at 7:30 pm)\nA free event! No need to book\, just turn up. \nPart of the 2026 Highams Park Arts Trail \n\nHighams Park Arts & Culture ( ARC )
URL:https://highamspark.london/event/highams-park-arts-club/
LOCATION:Vino Tap
CATEGORIES:Talks,Exhibitions & Art Trails
ATTACH;FMTTYPE=image/jpeg:https://highamspark.london/wp-content/uploads/2019/06/Elephant-Tortoise.jpg
END:VEVENT
BEGIN:VEVENT
DTSTART;TZID=Europe/London:20260514T080000
DTEND;TZID=Europe/London:20260514T220000
DTSTAMP:20260423T092737
CREATED:20260324T165126Z
LAST-MODIFIED:20260401T172451Z
UID:14899-1778745600-1778796000@highamspark.london
SUMMARY:Boom Boom Comedy Club
DESCRIPTION:Grassroots comedy at the heart of Highams Park featuring eight up-and-coming acts. All profits go to the charity ACT2. \nTickets: £8.59\nTo book tickets go to: https://www.jumblebee.co.uk/BOOMBOOMCOMEDY \n  \nPart of the 2026 Highams Park Arts Trail \n\nHighams Park Arts & Culture ( ARC ) \n  \n 
URL:https://highamspark.london/event/boom-boom-comedy-club-2/
LOCATION:County Arms Pub\, 420 Hale End Road\, London\, E4 9PB
CATEGORIES:Comedy night,Exhibitions & Art Trails
ATTACH;FMTTYPE=image/jpeg:https://highamspark.london/wp-content/uploads/2020/09/Boom-Boom-Comedy-Club.jpg
END:VEVENT
BEGIN:VEVENT
DTSTART;TZID=Europe/London:20260515T120000
DTEND;TZID=Europe/London:20260515T130000
DTSTAMP:20260423T092737
CREATED:20260326T141716Z
LAST-MODIFIED:20260326T143016Z
UID:14947-1778846400-1778850000@highamspark.london
SUMMARY:Ceramic Class with Potter's Wheel
DESCRIPTION:For booking or any questions please e-mail\n2contacta.r.t@gmail.com\nor call 07706029002/07983710381 \nwww.instagram.com/a.r.tsessions \nPart of the 2026 Highams Park Arts Trail \n\nHighams Park Arts & Culture ( ARC )
URL:https://highamspark.london/event/ceramic-class-with-potters-wheel/
LOCATION:Humphry’s Cafe\, The Highams Park (next to the Lake)\, London\, IG8 9RB
CATEGORIES:Classes for Adults,Exhibitions & Art Trails
ATTACH;FMTTYPE=image/png:https://highamspark.london/wp-content/uploads/2026/03/Throwing-scaled.png
END:VEVENT
BEGIN:VEVENT
DTSTART;TZID=Europe/London:20260515T120000
DTEND;TZID=Europe/London:20260515T133000
DTSTAMP:20260423T092737
CREATED:20260326T143436Z
LAST-MODIFIED:20260330T113143Z
UID:14954-1778846400-1778851800@highamspark.london
SUMMARY:Ceramic Class - Garden Ornament
DESCRIPTION:For booking or any questions please e-mail\n2contacta.r.t@gmail.com\nor call 07706029002/07983710381 \nwww.instagram.com/a.r.tsessions \nPart of the 2026 Highams Park Arts Trail \n\nHighams Park Arts & Culture ( ARC )
URL:https://highamspark.london/event/ceramic-class-garden-ornament/
LOCATION:Humphry’s Cafe\, The Highams Park (next to the Lake)\, London\, IG8 9RB
CATEGORIES:Classes for Adults,Exhibitions & Art Trails
ATTACH;FMTTYPE=image/jpeg:https://highamspark.london/wp-content/uploads/2026/03/Garden-Ornament-scaled.jpg
END:VEVENT
BEGIN:VEVENT
DTSTART;TZID=Europe/London:20260515T193000
DTEND;TZID=Europe/London:20260515T213000
DTSTAMP:20260423T092737
CREATED:20260324T172037Z
LAST-MODIFIED:20260325T144228Z
UID:14901-1778873400-1778880600@highamspark.london
SUMMARY:Recital by the Paddington Trio
DESCRIPTION:  \n  \n  \n  \n  \n  \n  \n  \n  \n  \n  \n  \n  \n  \nTickets on door: £17 (members of WFMS £12)\nDoors Open: 7pm; concert starts at 7:30 pm \nPart of the 2026 Highams Park Arts Trail \n\nHighams Park Arts & Culture ( ARC )
URL:https://highamspark.london/event/recital-by-the-paddington-trio/
LOCATION:All Saints Church\, Church Avenue\, E4 9QZ
CATEGORIES:Live Music,Concerts
ATTACH;FMTTYPE=image/jpeg:https://highamspark.london/wp-content/uploads/2026/03/Paddington-2026-Front.jpg
END:VEVENT
BEGIN:VEVENT
DTSTART;TZID=Europe/London:20260516T190000
DTEND;TZID=Europe/London:20260516T220000
DTSTAMP:20260423T092737
CREATED:20260323T174840Z
LAST-MODIFIED:20260323T183422Z
UID:14871-1778958000-1778968800@highamspark.london
SUMMARY:Night Hours: Yet So Much
DESCRIPTION:A unique one-time live performance of the debut album ‘Yet So Much’ by ‘Night Hours’ – A collection of original songs composed by local artist Nigel Mear. This special launch event will celebrate the album release with an intimate performance of the entire album featuring musicians from the recording sessions.\nDoors Open: 7:00pm\nPerformance Starts: 8:00pm\nThe performance will last approximately 2 hours including one interval.\nNote: There will be no bar on the evening – ‘Bring Your Own Drink’ event. \nPrice: £10.00 Ticket and CD bundle (CD collection at venue)\nUnreserved seating and standing\nBooking essential\nTo book tickets go to:\nhttps://ticketlab.co.uk/event/id/37110 \nPart of the 2026 Highams Park Arts Trail \n\nHighams Park Arts & Culture ( ARC )
URL:https://highamspark.london/event/night-hours-yet-so-much/
LOCATION:All Saints Church\, Church Avenue\, E4 9QZ
CATEGORIES:Live Music,Concerts
ATTACH;FMTTYPE=image/jpeg:https://highamspark.london/wp-content/uploads/2026/03/Night-hours-16th-May-.jpg
END:VEVENT
END:VCALENDAR